BEGIN:VCALENDAR
VERSION:2.0
PRODID:spatie/icalendar-generator
DESCRIPTION:Évènements de Paroisses Gondecourt Phalempin et alentours
X-WR-CALDESC:Évènements de Paroisses Gondecourt Phalempin et alentours
REFRESH-INTERVAL;VALUE=DURATION:PT1440M
X-PUBLISHED-TTL:PT1440M
BEGIN:VTIMEZONE
TZID:Europe/Paris
BEGIN:STANDARD
DTSTART:20241027T030000Z
TZOFFSETFROM:+0200
TZOFFSETTO:+0100
END:STANDARD
BEGIN:DAYLIGHT
DTSTART:20250330T020000Z
TZOFFSETFROM:+0100
TZOFFSETTO:+0200
END:DAYLIGHT
BEGIN:STANDARD
DTSTART:20251026T030000Z
TZOFFSETFROM:+0200
TZOFFSETTO:+0100
END:STANDARD
END:VTIMEZONE
BEGIN:VTIMEZONE
TZID:UTC
BEGIN:STANDARD
DTSTART:20250725T093745Z
TZOFFSETFROM:+0000
TZOFFSETTO:+0000
END:STANDARD
END:VTIMEZONE
BEGIN:VEVENT
UID:1468-396
DTSTAMP:20260421T093745Z
SUMMARY:Messe 1ères communions
LOCATION:Phalempin - Église Saint Christophe Rue Léon Blum  Phalempin  59
 133
ORGANIZER;CN=Paroisse:MAILTO:florence.grenier@free.fr
DTSTART;TZID=Europe/Paris:20250518T111500
DTEND;TZID=Europe/Paris:20250518T120500
X-ALT-DESC;FMTTYPE=TEXT/HTML:
CATEGORIES:Célébration
URL;VALUE=URI:https://www.paroisses-gondecourt-phalempin-alentours.fr/mc-ev
 ents/messe-1eres-communions-6/
METHOD:PUBLISH
END:VEVENT
END:VCALENDAR